BEGIN:VCALENDAR
VERSION:2.0
PRODID:Rockland County, NY Calendar Creator
METHOD:PUBLISH
BEGIN:VEVENT
DTSTAMP:20260406T090208
DTSTART:20260415T100000
DTEND:20260415T120000
SUMMARY:CANCELLED: Rockland County Board of Health Public Meeting
DESCRIPTION:<p style="text-align: center;"><strong>THIS MEETING HAS BEEN EFFECTIVELY CANCELLED.</strong></p>
X-ALT-DESC;FMTTYPE=text/html:<p style="text-align: center;"><strong>THIS MEETING HAS BEEN EFFECTIVELY CANCELLED.</strong></p>
LOCATION:Dr. Robert L. Yeager Health Center\, Building A\, 50 Sanatorium Road\, Building A Pomona\, New York 10970
CLASS:PUBLIC
END:VEVENT
END:VCALENDAR
