BEGIN:VCALENDAR
VERSION:2.0
PRODID:Rockland County, NY Calendar Creator
METHOD:PUBLISH
BEGIN:VEVENT
DTSTAMP:20251210T151011
DTSTART:20260520T100000
DTEND:20260520T120000
SUMMARY:Rockland County Board of Health Public Meeting
DESCRIPTION:The meeting will be conducted in person at: The Dr. Robert L. Yeager Health Center, 50 Sanatorium Road, Building A, Pomona, NY 10970.<br/><br/>AMERICANS WITH DISABILITIES ACT NOTICE: To request accommodations for a disability, please call (845) 364-2513. Please request accommodation 24 hours in advance of the meeting so that we can meet your needs.
X-ALT-DESC;FMTTYPE=text/html:The meeting will be conducted in person at: The Dr. Robert L. Yeager Health Center, 50 Sanatorium Road, Building A, Pomona, NY 10970.<br/><br/>AMERICANS WITH DISABILITIES ACT NOTICE: To request accommodations for a disability, please call (845) 364-2513. Please request accommodation 24 hours in advance of the meeting so that we can meet your needs.
LOCATION:Dr. Robert L. Yeager Health Center\, Building A\, 50 Sanatorium Road\, Building A Pomona\, New York 10970
CLASS:PUBLIC
END:VEVENT
END:VCALENDAR
