BEGIN:VCALENDAR
VERSION:2.0
PRODID:Rockland County, NY Calendar Creator
METHOD:PUBLISH
BEGIN:VEVENT
DTSTAMP:20260319T161545
DTSTART:20260426T090000
DTEND:20260426T120000
SUMMARY:Rabies Vaccine Clinic
DESCRIPTION:<div>The Rockland County Department of Health is offering free rabies vaccinations for dogs, cats &amp; ferrets belonging to Rockland residents by appointment only.</div><p>&nbsp;</p><p>By law, all cats, dogs &amp; ferrets must be&nbsp;<span style="font-size: 1rem;">vaccinated for rabies.</span></p><ul>    <li>Pets must be healthy &amp;at least 4 months old</li>    <li>Dogs must be on a leash</li>    <li>Cats &amp; ferrets must be in a carrier or leashed</li></ul><div>&nbsp;</div><p>FREE RABIES SHOTS FOR CATS, DOGS &amp; FERRETS!&nbsp;Appointments are required.<br>See Rabies clinic flyer for details:&nbsp;<a href="https://rockland1.prod-as.govaccess.org/home/showpublisheddocument/870/639093576876630000" target="_blank" title="Rabies Clinic Dates" tabindex="-1">flyer (English)</a>&nbsp;&amp;&nbsp;<a href="https://rockland1.prod-as.govaccess.org/home/showpublisheddocument/5503/639093577273630000" target="_blank" title="Rabies Clinic Dates- Spanish" rel="noopener">flyer (Spanish)</a></p><p>To register, please visit:&nbsp;<a href="http://rcklnd.us/rabiesvax" target="_blank" rel="noopener">http://rcklnd.us/rabiesvax</a></p>
X-ALT-DESC;FMTTYPE=text/html:<div>The Rockland County Department of Health is offering free rabies vaccinations for dogs, cats &amp; ferrets belonging to Rockland residents by appointment only.</div><p>&nbsp;</p><p>By law, all cats, dogs &amp; ferrets must be&nbsp;<span style="font-size: 1rem;">vaccinated for rabies.</span></p><ul>    <li>Pets must be healthy &amp;at least 4 months old</li>    <li>Dogs must be on a leash</li>    <li>Cats &amp; ferrets must be in a carrier or leashed</li></ul><div>&nbsp;</div><p>FREE RABIES SHOTS FOR CATS, DOGS &amp; FERRETS!&nbsp;Appointments are required.<br>See Rabies clinic flyer for details:&nbsp;<a href="https://rockland1.prod-as.govaccess.org/home/showpublisheddocument/870/639093576876630000" target="_blank" title="Rabies Clinic Dates" tabindex="-1">flyer (English)</a>&nbsp;&amp;&nbsp;<a href="https://rockland1.prod-as.govaccess.org/home/showpublisheddocument/5503/639093577273630000" target="_blank" title="Rabies Clinic Dates- Spanish" rel="noopener">flyer (Spanish)</a></p><p>To register, please visit:&nbsp;<a href="http://rcklnd.us/rabiesvax" target="_blank" rel="noopener">http://rcklnd.us/rabiesvax</a></p>
LOCATION:Dr. Robert L. Yeager Health Center\, Building A\, 50 Sanatorium Road\, Building A Pomona\, New York 10970
CLASS:PUBLIC
END:VEVENT
END:VCALENDAR
