BEGIN:VCALENDAR
VERSION:2.0
PRODID:Rockland County, NY Calendar Creator
METHOD:PUBLISH
BEGIN:VEVENT
DTSTAMP:20260402T100503
DTSTART:20260414T173000
DTEND:20260414T235900
SUMMARY:Board of Plumbing, Heating, Air Conditioning, Refrigeration, Sheet Metal and Fire Protection System Examiners
DESCRIPTION:<p style="text-align: center;"><strong><a href="https://rockland1.prod-as.govaccess.org/home/showpublisheddocument/8434/639107209288270000" target="_blank" rel="noopener">NOTICE OF MEETING – April 14, 2026</a></strong></p><br>There will be a monthly meeting of the Rockland County Plumbing, Heating, Air Conditioning, Refrigeration, Sheet Metal and Fire Protection System Examiners Board on Tuesday, April 14, 2026, at 5:30 PM.<br><br>The meeting will be held in the Legislative Committee Room, 11 New Hempstead Road, New City, NY 10956.<br><br>The County of Rockland is committed to full compliance with the Americans with Disabilities Act. To that end, the County is committed to creating an accessible environment for all and to delivering services in an accessible manner to the greatest extent possible. As noted, a meeting is scheduled as indicated. To request accommodations that you may require, please notify us at least five (5) business days in advance so that we may make every effort to meet your needs. Please call (845) 364-3901<br><br>Thank you for your attention to the above.
X-ALT-DESC;FMTTYPE=text/html:<p style="text-align: center;"><strong><a href="https://rockland1.prod-as.govaccess.org/home/showpublisheddocument/8434/639107209288270000" target="_blank" rel="noopener">NOTICE OF MEETING – April 14, 2026</a></strong></p><br>There will be a monthly meeting of the Rockland County Plumbing, Heating, Air Conditioning, Refrigeration, Sheet Metal and Fire Protection System Examiners Board on Tuesday, April 14, 2026, at 5:30 PM.<br><br>The meeting will be held in the Legislative Committee Room, 11 New Hempstead Road, New City, NY 10956.<br><br>The County of Rockland is committed to full compliance with the Americans with Disabilities Act. To that end, the County is committed to creating an accessible environment for all and to delivering services in an accessible manner to the greatest extent possible. As noted, a meeting is scheduled as indicated. To request accommodations that you may require, please notify us at least five (5) business days in advance so that we may make every effort to meet your needs. Please call (845) 364-3901<br><br>Thank you for your attention to the above.
LOCATION:Legislative Committee Room\, 11 New Hempstead Road\, Legislative Committee Room New City\, New York 10956
CLASS:PUBLIC
END:VEVENT
END:VCALENDAR
