BEGIN:VCALENDAR
VERSION:2.0
PRODID:Rockland County, NY Calendar Creator
METHOD:PUBLISH
BEGIN:VEVENT
DTSTAMP:20260408T140605
DTSTART:20260416T100000
DTEND:20260416T235900
SUMMARY:Rockland County Soil and Water Conservation District Board Meeting
DESCRIPTION:<p style="text-align: center;"><strong><a href="https://rockland1.prod-as.govaccess.org/home/showpublisheddocument/8448/639112536965800000" target="_blank" rel="noopener">PUBLIC MEETING NOTICE</a></strong><br>Rockland County Soil &amp; Water Conservation District<br>April 16th, 2026, at 10 am<br>Location: Room 617- DER Conference Room 50 Sanatorium Road- Building A Pomona, NY</p><p style="text-align: center;"><strong>NOTICE </strong>is hereby given that a public meeting will be held by the Rockland County Soil &amp; Water Conservation District on <strong>Thursday, April 16th, 2026, at 10 am</strong>.&nbsp;<span style="font-size: 1rem;">The meeting of the board scheduled for the Rockland County Soil &amp; Water Conservation District will be held in person at the Division of Environmental Resources Conference Room, Room 617, located on the 6th floor of Building A, 50 Sanatorium Road, Pomona.&nbsp;</span><span style="font-size: 1rem;">To register for the meeting please contact Brianna Rosamilia at </span><a href="mailto:SWCD@co.rockland.ny.us" style="font-size: 1rem;">SWCD@co.rockland.ny.us</a>.</p><p style="text-align: center;"><strong>AMERICANS WITH DISABILITIES ACT NOTICE:</strong> To request accommodations for a disability, please call the Division of Environmental Resources at <a href="tel:18453642670">845-364-2670</a>. Please request those accommodations 24 hours in advance of the meeting so that we can meet your needs.</p>
X-ALT-DESC;FMTTYPE=text/html:<p style="text-align: center;"><strong><a href="https://rockland1.prod-as.govaccess.org/home/showpublisheddocument/8448/639112536965800000" target="_blank" rel="noopener">PUBLIC MEETING NOTICE</a></strong><br>Rockland County Soil &amp; Water Conservation District<br>April 16th, 2026, at 10 am<br>Location: Room 617- DER Conference Room 50 Sanatorium Road- Building A Pomona, NY</p><p style="text-align: center;"><strong>NOTICE </strong>is hereby given that a public meeting will be held by the Rockland County Soil &amp; Water Conservation District on <strong>Thursday, April 16th, 2026, at 10 am</strong>.&nbsp;<span style="font-size: 1rem;">The meeting of the board scheduled for the Rockland County Soil &amp; Water Conservation District will be held in person at the Division of Environmental Resources Conference Room, Room 617, located on the 6th floor of Building A, 50 Sanatorium Road, Pomona.&nbsp;</span><span style="font-size: 1rem;">To register for the meeting please contact Brianna Rosamilia at </span><a href="mailto:SWCD@co.rockland.ny.us" style="font-size: 1rem;">SWCD@co.rockland.ny.us</a>.</p><p style="text-align: center;"><strong>AMERICANS WITH DISABILITIES ACT NOTICE:</strong> To request accommodations for a disability, please call the Division of Environmental Resources at <a href="tel:18453642670">845-364-2670</a>. Please request those accommodations 24 hours in advance of the meeting so that we can meet your needs.</p>
LOCATION:Dr. Robert L. Yeager Health Center\, Building A\, 50 Sanatorium Road\, Building A Pomona\, New York 10970
CLASS:PUBLIC
END:VEVENT
END:VCALENDAR
